BEGIN:VCALENDAR
VERSION:2.0
PRODID:https://www.kufer.de/kuferweb / DE
METHOD:PUBLISH
CALSCALE:GREGORIAN
X-WR-TIMEZONE:Europe/Berlin
BEGIN:VTIMEZONE
TZID:Europe/Berlin
X-LIC-LOCATION:Europe/Berlin
BEGIN:DAYLIGHT
TZOFFSETFROM:+0100
TZOFFSETTO:+0200
TZNAME:CEST
DTSTART:19700329T020000
RRULE:FREQ=YEARLY;INTERVAL=1;BYDAY=-1SU;BYMONTH=3
END:DAYLIGHT
BEGIN:STANDARD
TZOFFSETFROM:+0200
TZOFFSETTO:+0100
TZNAME:CET
DTSTART:19701025T030000
RRULE:FREQ=YEARLY;INTERVAL=1;BYDAY=-1SU;BYMONTH=10
END:STANDARD
END:VTIMEZONE
BEGIN:VEVENT
DTSTAMP:20260420T183906
DTSTART;TZID=Europe/Berlin:20260502T100000
DTEND;TZID=Europe/Berlin:20260502T113000
UID:261-22100F-20260502T100000@FBWRATINGEN
SUMMARY:Spielgruppe für Väter mit Kindern am Samstag Für Kinder von 1 bis 3 Jahren (261-22100F) 
LOCATION:Ratingen-Mitte, Haus am Turm, Turmstr. 10, Bewegungsraum, Turmstr. 10 / Angerstr. 11, 40878 Ratingen
END:VEVENT
BEGIN:VEVENT
DTSTAMP:20260420T183906
DTSTART;TZID=Europe/Berlin:20260516T100000
DTEND;TZID=Europe/Berlin:20260516T113000
UID:261-22100F-20260516T100000@FBWRATINGEN
SUMMARY:Spielgruppe für Väter mit Kindern am Samstag Für Kinder von 1 bis 3 Jahren (261-22100F) 
LOCATION:Ratingen-Mitte, Haus am Turm, Turmstr. 10, Bewegungsraum, Turmstr. 10 / Angerstr. 11, 40878 Ratingen
END:VEVENT
BEGIN:VEVENT
DTSTAMP:20260420T183906
DTSTART;TZID=Europe/Berlin:20260530T100000
DTEND;TZID=Europe/Berlin:20260530T113000
UID:261-22100F-20260530T100000@FBWRATINGEN
SUMMARY:Spielgruppe für Väter mit Kindern am Samstag Für Kinder von 1 bis 3 Jahren (261-22100F) 
LOCATION:Ratingen-Mitte, Haus am Turm, Turmstr. 10, Bewegungsraum, Turmstr. 10 / Angerstr. 11, 40878 Ratingen
END:VEVENT
BEGIN:VEVENT
DTSTAMP:20260420T183906
DTSTART;TZID=Europe/Berlin:20260613T100000
DTEND;TZID=Europe/Berlin:20260613T113000
UID:261-22100F-20260613T100000@FBWRATINGEN
SUMMARY:Spielgruppe für Väter mit Kindern am Samstag Für Kinder von 1 bis 3 Jahren (261-22100F) 
LOCATION:Ratingen-Mitte, Haus am Turm, Turmstr. 10, Bewegungsraum, Turmstr. 10 / Angerstr. 11, 40878 Ratingen
END:VEVENT
BEGIN:VEVENT
DTSTAMP:20260420T183906
DTSTART;TZID=Europe/Berlin:20260627T100000
DTEND;TZID=Europe/Berlin:20260627T113000
UID:261-22100F-20260627T100000@FBWRATINGEN
SUMMARY:Spielgruppe für Väter mit Kindern am Samstag Für Kinder von 1 bis 3 Jahren (261-22100F) 
LOCATION:Ratingen-Mitte, Haus am Turm, Turmstr. 10, Bewegungsraum, Turmstr. 10 / Angerstr. 11, 40878 Ratingen
END:VEVENT
BEGIN:VEVENT
DTSTAMP:20260420T183906
DTSTART;TZID=Europe/Berlin:20260711T100000
DTEND;TZID=Europe/Berlin:20260711T113000
UID:261-22100F-20260711T100000@FBWRATINGEN
SUMMARY:Spielgruppe für Väter mit Kindern am Samstag Für Kinder von 1 bis 3 Jahren (261-22100F) 
LOCATION:Ratingen-Mitte, Haus am Turm, Turmstr. 10, Bewegungsraum, Turmstr. 10 / Angerstr. 11, 40878 Ratingen
END:VEVENT
END:VCALENDAR