BEGIN:VCALENDAR
VERSION:2.0
PRODID:https://www.kufer.de/kuferweb / DE
METHOD:PUBLISH
CALSCALE:GREGORIAN
X-WR-TIMEZONE:Europe/Berlin
BEGIN:VTIMEZONE
TZID:Europe/Berlin
X-LIC-LOCATION:Europe/Berlin
BEGIN:DAYLIGHT
TZOFFSETFROM:+0100
TZOFFSETTO:+0200
TZNAME:CEST
DTSTART:19700329T020000
RRULE:FREQ=YEARLY;INTERVAL=1;BYDAY=-1SU;BYMONTH=3
END:DAYLIGHT
BEGIN:STANDARD
TZOFFSETFROM:+0200
TZOFFSETTO:+0100
TZNAME:CET
DTSTART:19701025T030000
RRULE:FREQ=YEARLY;INTERVAL=1;BYDAY=-1SU;BYMONTH=10
END:STANDARD
END:VTIMEZONE
BEGIN:VEVENT
DTSTAMP:20260423T142507
DTSTART;TZID=Europe/Berlin:20260115T094500
DTEND;TZID=Europe/Berlin:20260115T111500
UID:261-27292A-20260115T094500@FBWRATINGEN
SUMMARY:Griffbereit: Spielgruppe (für sprachinteressierte Eltern) Für Eltern mit Kindern von 1 bis 3 Jahren (261-27292A) 
LOCATION:Erkrath-Hochdahl, Brechtstrass 6, SPFH, Brechtstrasse 6, 40699 Erkrath
END:VEVENT
BEGIN:VEVENT
DTSTAMP:20260423T142507
DTSTART;TZID=Europe/Berlin:20260122T094500
DTEND;TZID=Europe/Berlin:20260122T111500
UID:261-27292A-20260122T094500@FBWRATINGEN
SUMMARY:Griffbereit: Spielgruppe (für sprachinteressierte Eltern) Für Eltern mit Kindern von 1 bis 3 Jahren (261-27292A) 
LOCATION:Erkrath-Hochdahl, Brechtstrass 6, SPFH, Brechtstrasse 6, 40699 Erkrath
END:VEVENT
BEGIN:VEVENT
DTSTAMP:20260423T142507
DTSTART;TZID=Europe/Berlin:20260129T094500
DTEND;TZID=Europe/Berlin:20260129T111500
UID:261-27292A-20260129T094500@FBWRATINGEN
SUMMARY:Griffbereit: Spielgruppe (für sprachinteressierte Eltern) Für Eltern mit Kindern von 1 bis 3 Jahren (261-27292A) 
LOCATION:Erkrath-Hochdahl, Brechtstrass 6, SPFH, Brechtstrasse 6, 40699 Erkrath
END:VEVENT
BEGIN:VEVENT
DTSTAMP:20260423T142507
DTSTART;TZID=Europe/Berlin:20260205T094500
DTEND;TZID=Europe/Berlin:20260205T111500
UID:261-27292A-20260205T094500@FBWRATINGEN
SUMMARY:Griffbereit: Spielgruppe (für sprachinteressierte Eltern) Für Eltern mit Kindern von 1 bis 3 Jahren (261-27292A) 
LOCATION:Erkrath-Hochdahl, Brechtstrass 6, SPFH, Brechtstrasse 6, 40699 Erkrath
END:VEVENT
BEGIN:VEVENT
DTSTAMP:20260423T142507
DTSTART;TZID=Europe/Berlin:20260212T094500
DTEND;TZID=Europe/Berlin:20260212T111500
UID:261-27292A-20260212T094500@FBWRATINGEN
SUMMARY:Griffbereit: Spielgruppe (für sprachinteressierte Eltern) Für Eltern mit Kindern von 1 bis 3 Jahren (261-27292A) 
LOCATION:Erkrath-Hochdahl, Brechtstrass 6, SPFH, Brechtstrasse 6, 40699 Erkrath
END:VEVENT
BEGIN:VEVENT
DTSTAMP:20260423T142507
DTSTART;TZID=Europe/Berlin:20260219T094500
DTEND;TZID=Europe/Berlin:20260219T111500
UID:261-27292A-20260219T094500@FBWRATINGEN
SUMMARY:Griffbereit: Spielgruppe (für sprachinteressierte Eltern) Für Eltern mit Kindern von 1 bis 3 Jahren (261-27292A) 
LOCATION:Erkrath-Hochdahl, Brechtstrass 6, SPFH, Brechtstrasse 6, 40699 Erkrath
END:VEVENT
BEGIN:VEVENT
DTSTAMP:20260423T142507
DTSTART;TZID=Europe/Berlin:20260226T094500
DTEND;TZID=Europe/Berlin:20260226T111500
UID:261-27292A-20260226T094500@FBWRATINGEN
SUMMARY:Griffbereit: Spielgruppe (für sprachinteressierte Eltern) Für Eltern mit Kindern von 1 bis 3 Jahren (261-27292A) 
LOCATION:Erkrath-Hochdahl, Brechtstrass 6, SPFH, Brechtstrasse 6, 40699 Erkrath
END:VEVENT
BEGIN:VEVENT
DTSTAMP:20260423T142507
DTSTART;TZID=Europe/Berlin:20260305T094500
DTEND;TZID=Europe/Berlin:20260305T111500
UID:261-27292A-20260305T094500@FBWRATINGEN
SUMMARY:Griffbereit: Spielgruppe (für sprachinteressierte Eltern) Für Eltern mit Kindern von 1 bis 3 Jahren (261-27292A) 
LOCATION:Erkrath-Hochdahl, Brechtstrass 6, SPFH, Brechtstrasse 6, 40699 Erkrath
END:VEVENT
BEGIN:VEVENT
DTSTAMP:20260423T142507
DTSTART;TZID=Europe/Berlin:20260312T094500
DTEND;TZID=Europe/Berlin:20260312T111500
UID:261-27292A-20260312T094500@FBWRATINGEN
SUMMARY:Griffbereit: Spielgruppe (für sprachinteressierte Eltern) Für Eltern mit Kindern von 1 bis 3 Jahren (261-27292A) 
LOCATION:Erkrath-Hochdahl, Brechtstrass 6, SPFH, Brechtstrasse 6, 40699 Erkrath
END:VEVENT
BEGIN:VEVENT
DTSTAMP:20260423T142507
DTSTART;TZID=Europe/Berlin:20260319T094500
DTEND;TZID=Europe/Berlin:20260319T111500
UID:261-27292A-20260319T094500@FBWRATINGEN
SUMMARY:Griffbereit: Spielgruppe (für sprachinteressierte Eltern) Für Eltern mit Kindern von 1 bis 3 Jahren (261-27292A) 
LOCATION:Erkrath-Hochdahl, Brechtstrass 6, SPFH, Brechtstrasse 6, 40699 Erkrath
END:VEVENT
BEGIN:VEVENT
DTSTAMP:20260423T142507
DTSTART;TZID=Europe/Berlin:20260326T094500
DTEND;TZID=Europe/Berlin:20260326T111500
UID:261-27292A-20260326T094500@FBWRATINGEN
SUMMARY:Griffbereit: Spielgruppe (für sprachinteressierte Eltern) Für Eltern mit Kindern von 1 bis 3 Jahren (261-27292A) 
LOCATION:Erkrath-Hochdahl, Brechtstrass 6, SPFH, Brechtstrasse 6, 40699 Erkrath
END:VEVENT
BEGIN:VEVENT
DTSTAMP:20260423T142507
DTSTART;TZID=Europe/Berlin:20260416T094500
DTEND;TZID=Europe/Berlin:20260416T111500
UID:261-27292A-20260416T094500@FBWRATINGEN
SUMMARY:Griffbereit: Spielgruppe (für sprachinteressierte Eltern) Für Eltern mit Kindern von 1 bis 3 Jahren (261-27292A) 
LOCATION:Erkrath-Hochdahl, Brechtstrass 6, SPFH, Brechtstrasse 6, 40699 Erkrath
END:VEVENT
BEGIN:VEVENT
DTSTAMP:20260423T142507
DTSTART;TZID=Europe/Berlin:20260423T094500
DTEND;TZID=Europe/Berlin:20260423T111500
UID:261-27292A-20260423T094500@FBWRATINGEN
SUMMARY:Griffbereit: Spielgruppe (für sprachinteressierte Eltern) Für Eltern mit Kindern von 1 bis 3 Jahren (261-27292A) 
LOCATION:Erkrath-Hochdahl, Brechtstrass 6, SPFH, Brechtstrasse 6, 40699 Erkrath
END:VEVENT
BEGIN:VEVENT
DTSTAMP:20260423T142507
DTSTART;TZID=Europe/Berlin:20260430T094500
DTEND;TZID=Europe/Berlin:20260430T111500
UID:261-27292A-20260430T094500@FBWRATINGEN
SUMMARY:Griffbereit: Spielgruppe (für sprachinteressierte Eltern) Für Eltern mit Kindern von 1 bis 3 Jahren (261-27292A) 
LOCATION:Erkrath-Hochdahl, Brechtstrass 6, SPFH, Brechtstrasse 6, 40699 Erkrath
END:VEVENT
BEGIN:VEVENT
DTSTAMP:20260423T142507
DTSTART;TZID=Europe/Berlin:20260507T094500
DTEND;TZID=Europe/Berlin:20260507T111500
UID:261-27292A-20260507T094500@FBWRATINGEN
SUMMARY:Griffbereit: Spielgruppe (für sprachinteressierte Eltern) Für Eltern mit Kindern von 1 bis 3 Jahren (261-27292A) 
LOCATION:Erkrath-Hochdahl, Brechtstrass 6, SPFH, Brechtstrasse 6, 40699 Erkrath
END:VEVENT
BEGIN:VEVENT
DTSTAMP:20260423T142507
DTSTART;TZID=Europe/Berlin:20260521T094500
DTEND;TZID=Europe/Berlin:20260521T111500
UID:261-27292A-20260521T094500@FBWRATINGEN
SUMMARY:Griffbereit: Spielgruppe (für sprachinteressierte Eltern) Für Eltern mit Kindern von 1 bis 3 Jahren (261-27292A) 
LOCATION:Erkrath-Hochdahl, Brechtstrass 6, SPFH, Brechtstrasse 6, 40699 Erkrath
END:VEVENT
BEGIN:VEVENT
DTSTAMP:20260423T142507
DTSTART;TZID=Europe/Berlin:20260528T094500
DTEND;TZID=Europe/Berlin:20260528T111500
UID:261-27292A-20260528T094500@FBWRATINGEN
SUMMARY:Griffbereit: Spielgruppe (für sprachinteressierte Eltern) Für Eltern mit Kindern von 1 bis 3 Jahren (261-27292A) 
LOCATION:Erkrath-Hochdahl, Brechtstrass 6, SPFH, Brechtstrasse 6, 40699 Erkrath
END:VEVENT
BEGIN:VEVENT
DTSTAMP:20260423T142507
DTSTART;TZID=Europe/Berlin:20260611T094500
DTEND;TZID=Europe/Berlin:20260611T111500
UID:261-27292A-20260611T094500@FBWRATINGEN
SUMMARY:Griffbereit: Spielgruppe (für sprachinteressierte Eltern) Für Eltern mit Kindern von 1 bis 3 Jahren (261-27292A) 
LOCATION:Erkrath-Hochdahl, Brechtstrass 6, SPFH, Brechtstrasse 6, 40699 Erkrath
END:VEVENT
BEGIN:VEVENT
DTSTAMP:20260423T142507
DTSTART;TZID=Europe/Berlin:20260618T094500
DTEND;TZID=Europe/Berlin:20260618T111500
UID:261-27292A-20260618T094500@FBWRATINGEN
SUMMARY:Griffbereit: Spielgruppe (für sprachinteressierte Eltern) Für Eltern mit Kindern von 1 bis 3 Jahren (261-27292A) 
LOCATION:Erkrath-Hochdahl, Brechtstrass 6, SPFH, Brechtstrasse 6, 40699 Erkrath
END:VEVENT
BEGIN:VEVENT
DTSTAMP:20260423T142507
DTSTART;TZID=Europe/Berlin:20260625T094500
DTEND;TZID=Europe/Berlin:20260625T111500
UID:261-27292A-20260625T094500@FBWRATINGEN
SUMMARY:Griffbereit: Spielgruppe (für sprachinteressierte Eltern) Für Eltern mit Kindern von 1 bis 3 Jahren (261-27292A) 
LOCATION:Erkrath-Hochdahl, Brechtstrass 6, SPFH, Brechtstrasse 6, 40699 Erkrath
END:VEVENT
END:VCALENDAR