BEGIN:VCALENDAR
VERSION:2.0
PRODID:https://www.kufer.de/kuferweb / DE
METHOD:PUBLISH
CALSCALE:GREGORIAN
X-WR-TIMEZONE:Europe/Berlin
BEGIN:VTIMEZONE
TZID:Europe/Berlin
X-LIC-LOCATION:Europe/Berlin
BEGIN:DAYLIGHT
TZOFFSETFROM:+0100
TZOFFSETTO:+0200
TZNAME:CEST
DTSTART:19700329T020000
RRULE:FREQ=YEARLY;INTERVAL=1;BYDAY=-1SU;BYMONTH=3
END:DAYLIGHT
BEGIN:STANDARD
TZOFFSETFROM:+0200
TZOFFSETTO:+0100
TZNAME:CET
DTSTART:19701025T030000
RRULE:FREQ=YEARLY;INTERVAL=1;BYDAY=-1SU;BYMONTH=10
END:STANDARD
END:VTIMEZONE
BEGIN:VEVENT
DTSTAMP:20260423T162325
DTSTART;TZID=Europe/Berlin:20260116T110000
DTEND;TZID=Europe/Berlin:20260116T123000
UID:261-27294A-20260116T110000@FBWRATINGEN
SUMMARY:Griffbereit: Spielgruppe (für sprachinteressierte Eltern) Für Eltern mit Kindern von 1 bis 3 Jahren (261-27294A) 
LOCATION:Ratingen-Mitte, Familienzentrum St. Peter und Paul, Turmstr. 7, Turmstr. 10, 40878 Ratingen
END:VEVENT
BEGIN:VEVENT
DTSTAMP:20260423T162325
DTSTART;TZID=Europe/Berlin:20260123T110000
DTEND;TZID=Europe/Berlin:20260123T123000
UID:261-27294A-20260123T110000@FBWRATINGEN
SUMMARY:Griffbereit: Spielgruppe (für sprachinteressierte Eltern) Für Eltern mit Kindern von 1 bis 3 Jahren (261-27294A) 
LOCATION:Ratingen-Mitte, Familienzentrum St. Peter und Paul, Turmstr. 7, Turmstr. 10, 40878 Ratingen
END:VEVENT
BEGIN:VEVENT
DTSTAMP:20260423T162325
DTSTART;TZID=Europe/Berlin:20260130T110000
DTEND;TZID=Europe/Berlin:20260130T123000
UID:261-27294A-20260130T110000@FBWRATINGEN
SUMMARY:Griffbereit: Spielgruppe (für sprachinteressierte Eltern) Für Eltern mit Kindern von 1 bis 3 Jahren (261-27294A) 
LOCATION:Ratingen-Mitte, Familienzentrum St. Peter und Paul, Turmstr. 7, Turmstr. 10, 40878 Ratingen
END:VEVENT
BEGIN:VEVENT
DTSTAMP:20260423T162325
DTSTART;TZID=Europe/Berlin:20260206T110000
DTEND;TZID=Europe/Berlin:20260206T123000
UID:261-27294A-20260206T110000@FBWRATINGEN
SUMMARY:Griffbereit: Spielgruppe (für sprachinteressierte Eltern) Für Eltern mit Kindern von 1 bis 3 Jahren (261-27294A) 
LOCATION:Ratingen-Mitte, Familienzentrum St. Peter und Paul, Turmstr. 7, Turmstr. 10, 40878 Ratingen
END:VEVENT
BEGIN:VEVENT
DTSTAMP:20260423T162325
DTSTART;TZID=Europe/Berlin:20260213T110000
DTEND;TZID=Europe/Berlin:20260213T123000
UID:261-27294A-20260213T110000@FBWRATINGEN
SUMMARY:Griffbereit: Spielgruppe (für sprachinteressierte Eltern) Für Eltern mit Kindern von 1 bis 3 Jahren (261-27294A) 
LOCATION:Ratingen-Mitte, Familienzentrum St. Peter und Paul, Turmstr. 7, Turmstr. 10, 40878 Ratingen
END:VEVENT
BEGIN:VEVENT
DTSTAMP:20260423T162325
DTSTART;TZID=Europe/Berlin:20260220T110000
DTEND;TZID=Europe/Berlin:20260220T123000
UID:261-27294A-20260220T110000@FBWRATINGEN
SUMMARY:Griffbereit: Spielgruppe (für sprachinteressierte Eltern) Für Eltern mit Kindern von 1 bis 3 Jahren (261-27294A) 
LOCATION:Ratingen-Mitte, Familienzentrum St. Peter und Paul, Turmstr. 7, Turmstr. 10, 40878 Ratingen
END:VEVENT
BEGIN:VEVENT
DTSTAMP:20260423T162325
DTSTART;TZID=Europe/Berlin:20260227T110000
DTEND;TZID=Europe/Berlin:20260227T123000
UID:261-27294A-20260227T110000@FBWRATINGEN
SUMMARY:Griffbereit: Spielgruppe (für sprachinteressierte Eltern) Für Eltern mit Kindern von 1 bis 3 Jahren (261-27294A) 
LOCATION:Ratingen-Mitte, Familienzentrum St. Peter und Paul, Turmstr. 7, Turmstr. 10, 40878 Ratingen
END:VEVENT
BEGIN:VEVENT
DTSTAMP:20260423T162325
DTSTART;TZID=Europe/Berlin:20260306T110000
DTEND;TZID=Europe/Berlin:20260306T123000
UID:261-27294A-20260306T110000@FBWRATINGEN
SUMMARY:Griffbereit: Spielgruppe (für sprachinteressierte Eltern) Für Eltern mit Kindern von 1 bis 3 Jahren (261-27294A) 
LOCATION:Ratingen-Mitte, Familienzentrum St. Peter und Paul, Turmstr. 7, Turmstr. 10, 40878 Ratingen
END:VEVENT
BEGIN:VEVENT
DTSTAMP:20260423T162325
DTSTART;TZID=Europe/Berlin:20260313T110000
DTEND;TZID=Europe/Berlin:20260313T123000
UID:261-27294A-20260313T110000@FBWRATINGEN
SUMMARY:Griffbereit: Spielgruppe (für sprachinteressierte Eltern) Für Eltern mit Kindern von 1 bis 3 Jahren (261-27294A) 
LOCATION:Ratingen-Mitte, Familienzentrum St. Peter und Paul, Turmstr. 7, Turmstr. 10, 40878 Ratingen
END:VEVENT
BEGIN:VEVENT
DTSTAMP:20260423T162325
DTSTART;TZID=Europe/Berlin:20260320T110000
DTEND;TZID=Europe/Berlin:20260320T123000
UID:261-27294A-20260320T110000@FBWRATINGEN
SUMMARY:Griffbereit: Spielgruppe (für sprachinteressierte Eltern) Für Eltern mit Kindern von 1 bis 3 Jahren (261-27294A) 
LOCATION:Ratingen-Mitte, Familienzentrum St. Peter und Paul, Turmstr. 7, Turmstr. 10, 40878 Ratingen
END:VEVENT
BEGIN:VEVENT
DTSTAMP:20260423T162325
DTSTART;TZID=Europe/Berlin:20260327T110000
DTEND;TZID=Europe/Berlin:20260327T123000
UID:261-27294A-20260327T110000@FBWRATINGEN
SUMMARY:Griffbereit: Spielgruppe (für sprachinteressierte Eltern) Für Eltern mit Kindern von 1 bis 3 Jahren (261-27294A) 
LOCATION:Ratingen-Mitte, Familienzentrum St. Peter und Paul, Turmstr. 7, Turmstr. 10, 40878 Ratingen
END:VEVENT
BEGIN:VEVENT
DTSTAMP:20260423T162325
DTSTART;TZID=Europe/Berlin:20260417T110000
DTEND;TZID=Europe/Berlin:20260417T123000
UID:261-27294A-20260417T110000@FBWRATINGEN
SUMMARY:Griffbereit: Spielgruppe (für sprachinteressierte Eltern) Für Eltern mit Kindern von 1 bis 3 Jahren (261-27294A) 
LOCATION:Ratingen-Mitte, Familienzentrum St. Peter und Paul, Turmstr. 7, Turmstr. 10, 40878 Ratingen
END:VEVENT
BEGIN:VEVENT
DTSTAMP:20260423T162325
DTSTART;TZID=Europe/Berlin:20260424T110000
DTEND;TZID=Europe/Berlin:20260424T123000
UID:261-27294A-20260424T110000@FBWRATINGEN
SUMMARY:Griffbereit: Spielgruppe (für sprachinteressierte Eltern) Für Eltern mit Kindern von 1 bis 3 Jahren (261-27294A) 
LOCATION:Ratingen-Mitte, Familienzentrum St. Peter und Paul, Turmstr. 7, Turmstr. 10, 40878 Ratingen
END:VEVENT
BEGIN:VEVENT
DTSTAMP:20260423T162325
DTSTART;TZID=Europe/Berlin:20260508T110000
DTEND;TZID=Europe/Berlin:20260508T123000
UID:261-27294A-20260508T110000@FBWRATINGEN
SUMMARY:Griffbereit: Spielgruppe (für sprachinteressierte Eltern) Für Eltern mit Kindern von 1 bis 3 Jahren (261-27294A) 
LOCATION:Ratingen-Mitte, Familienzentrum St. Peter und Paul, Turmstr. 7, Turmstr. 10, 40878 Ratingen
END:VEVENT
BEGIN:VEVENT
DTSTAMP:20260423T162325
DTSTART;TZID=Europe/Berlin:20260515T110000
DTEND;TZID=Europe/Berlin:20260515T123000
UID:261-27294A-20260515T110000@FBWRATINGEN
SUMMARY:Griffbereit: Spielgruppe (für sprachinteressierte Eltern) Für Eltern mit Kindern von 1 bis 3 Jahren (261-27294A) 
LOCATION:Ratingen-Mitte, Familienzentrum St. Peter und Paul, Turmstr. 7, Turmstr. 10, 40878 Ratingen
END:VEVENT
BEGIN:VEVENT
DTSTAMP:20260423T162325
DTSTART;TZID=Europe/Berlin:20260522T110000
DTEND;TZID=Europe/Berlin:20260522T123000
UID:261-27294A-20260522T110000@FBWRATINGEN
SUMMARY:Griffbereit: Spielgruppe (für sprachinteressierte Eltern) Für Eltern mit Kindern von 1 bis 3 Jahren (261-27294A) 
LOCATION:Ratingen-Mitte, Familienzentrum St. Peter und Paul, Turmstr. 7, Turmstr. 10, 40878 Ratingen
END:VEVENT
BEGIN:VEVENT
DTSTAMP:20260423T162325
DTSTART;TZID=Europe/Berlin:20260529T110000
DTEND;TZID=Europe/Berlin:20260529T123000
UID:261-27294A-20260529T110000@FBWRATINGEN
SUMMARY:Griffbereit: Spielgruppe (für sprachinteressierte Eltern) Für Eltern mit Kindern von 1 bis 3 Jahren (261-27294A) 
LOCATION:Ratingen-Mitte, Familienzentrum St. Peter und Paul, Turmstr. 7, Turmstr. 10, 40878 Ratingen
END:VEVENT
BEGIN:VEVENT
DTSTAMP:20260423T162325
DTSTART;TZID=Europe/Berlin:20260605T110000
DTEND;TZID=Europe/Berlin:20260605T123000
UID:261-27294A-20260605T110000@FBWRATINGEN
SUMMARY:Griffbereit: Spielgruppe (für sprachinteressierte Eltern) Für Eltern mit Kindern von 1 bis 3 Jahren (261-27294A) 
LOCATION:Ratingen-Mitte, Familienzentrum St. Peter und Paul, Turmstr. 7, Turmstr. 10, 40878 Ratingen
END:VEVENT
BEGIN:VEVENT
DTSTAMP:20260423T162325
DTSTART;TZID=Europe/Berlin:20260612T110000
DTEND;TZID=Europe/Berlin:20260612T123000
UID:261-27294A-20260612T110000@FBWRATINGEN
SUMMARY:Griffbereit: Spielgruppe (für sprachinteressierte Eltern) Für Eltern mit Kindern von 1 bis 3 Jahren (261-27294A) 
LOCATION:Ratingen-Mitte, Familienzentrum St. Peter und Paul, Turmstr. 7, Turmstr. 10, 40878 Ratingen
END:VEVENT
BEGIN:VEVENT
DTSTAMP:20260423T162325
DTSTART;TZID=Europe/Berlin:20260619T110000
DTEND;TZID=Europe/Berlin:20260619T123000
UID:261-27294A-20260619T110000@FBWRATINGEN
SUMMARY:Griffbereit: Spielgruppe (für sprachinteressierte Eltern) Für Eltern mit Kindern von 1 bis 3 Jahren (261-27294A) 
LOCATION:Ratingen-Mitte, Familienzentrum St. Peter und Paul, Turmstr. 7, Turmstr. 10, 40878 Ratingen
END:VEVENT
BEGIN:VEVENT
DTSTAMP:20260423T162325
DTSTART;TZID=Europe/Berlin:20260626T110000
DTEND;TZID=Europe/Berlin:20260626T123000
UID:261-27294A-20260626T110000@FBWRATINGEN
SUMMARY:Griffbereit: Spielgruppe (für sprachinteressierte Eltern) Für Eltern mit Kindern von 1 bis 3 Jahren (261-27294A) 
LOCATION:Ratingen-Mitte, Familienzentrum St. Peter und Paul, Turmstr. 7, Turmstr. 10, 40878 Ratingen
END:VEVENT
BEGIN:VEVENT
DTSTAMP:20260423T162325
DTSTART;TZID=Europe/Berlin:20260703T110000
DTEND;TZID=Europe/Berlin:20260703T123000
UID:261-27294A-20260703T110000@FBWRATINGEN
SUMMARY:Griffbereit: Spielgruppe (für sprachinteressierte Eltern) Für Eltern mit Kindern von 1 bis 3 Jahren (261-27294A) 
LOCATION:Ratingen-Mitte, Familienzentrum St. Peter und Paul, Turmstr. 7, Turmstr. 10, 40878 Ratingen
END:VEVENT
BEGIN:VEVENT
DTSTAMP:20260423T162325
DTSTART;TZID=Europe/Berlin:20260710T110000
DTEND;TZID=Europe/Berlin:20260710T123000
UID:261-27294A-20260710T110000@FBWRATINGEN
SUMMARY:Griffbereit: Spielgruppe (für sprachinteressierte Eltern) Für Eltern mit Kindern von 1 bis 3 Jahren (261-27294A) 
LOCATION:Ratingen-Mitte, Familienzentrum St. Peter und Paul, Turmstr. 7, Turmstr. 10, 40878 Ratingen
END:VEVENT
END:VCALENDAR